BEGIN:VCALENDAR
VERSION:2.0
PRODID:icalendar-ruby
CALSCALE:GREGORIAN
METHOD:PUBLISH
BEGIN:VEVENT
DTSTAMP:20260424T170104Z
UID:329-569142@ststephenburnaby.ca
DTSTART:20260502T170000Z
DTEND:20260502T220000Z
CLASS:PUBLIC
CREATED:20260415T124035
DESCRIPTION:Bring your mum to enjoy guest vendors\, crafts\, baked goods\, 
 and more at our Mother's Day Market! Or come alone to pick up a gift for m
 om!\n 
LAST-MODIFIED:20260415T124035
LOCATION:St Stephen the Martyr\, 9887 Cameron Street\, Burnaby
SUMMARY:Mother's Day Market
URL;VALUE=URI:https://www.ststephenburnaby.ca/events/mothers-day-market/202
 6-05-02
ATTACH;FILENAME=2026-Mothers-Day-Market-1.png;FMTTYPE=image/png:https://dq5
 pwpg1q8ru0.cloudfront.net/2026/04/15/19/40/35/ffc76fac-5b9d-4acb-8412-3179
 72006be7/2026-Mothers-Day-Market-1.png
END:VEVENT
END:VCALENDAR
