BEGIN:VCALENDAR
VERSION:2.0
PRODID:icalendar-ruby
CALSCALE:GREGORIAN
METHOD:PUBLISH
BEGIN:VEVENT
DTSTAMP:20260420T032245Z
UID:62-573017@ststephenburnaby.ca
DTSTART:20261027T020000Z
DTEND:20261027T030000Z
CLASS:PUBLIC
CREATED:20260419T183523
DESCRIPTION:Note:  Our Bible Study will not be meeting on December 29\, 20
 25  We will see you on January 5\, 2026.\nOur Monday Night Bible Study is
  a lay-led small group that currently meets on Zoom to read Scripture and 
 pray together.  We usually read together and discuss the scriptures for t
 he upcoming Sunday Readings\, to be better prepared for the service. Pleas
 e contact the Parish Office for Zoom links and more information.
LAST-MODIFIED:20260419T183523
LOCATION:On Zoom
SUMMARY:Monday Night Bible Study
URL;VALUE=URI:https://www.ststephenburnaby.ca/events/monday-night-bible-stu
 dy/2026-10-26
ATTACH;FILENAME=Copy-of-Tea-and-Theology.png;FMTTYPE=image/png:https://dq5p
 wpg1q8ru0.cloudfront.net/2022/09/01/09/08/12/228b3865-593f-4083-8fd5-749bd
 9ea877e/Copy-of-Tea-and-Theology.png
END:VEVENT
END:VCALENDAR
